BEGIN:VCALENDAR
VERSION:2.0
PRODID:-//Kino Tuškanac//Filmski programi//HR
BEGIN:VEVENT
UID:0c161126f2f1002e7aca055767218be8@kinotuskanac.hr
DTSTAMP:20260419T225250Z
DTSTART:20251023T190000
DTEND:20251023T210000
SUMMARY:Možda Diogen
LOCATION:Kino Tuškanac
DESCRIPTION:Jugoslavija: Hrvatska, 1968 R: Nedeljko Dragić
END:VEVENT
END:VCALENDAR