BEGIN:VCALENDAR
VERSION:2.0
PRODID:-//Kino Tuškanac//Filmski programi//HR
BEGIN:VEVENT
UID:a4963a5a277c27a94842b0dbc6a77e6c@kinotuskanac.hr
DTSTAMP:20260421T093235Z
DTSTART:20251023T190000
DTEND:20251023T210000
SUMMARY:Pasji život
LOCATION:Kino Tuškanac
DESCRIPTION:Jugoslavija: Hrvatska, 1966 R: Zdenko Gašparović
END:VEVENT
END:VCALENDAR