BEGIN:VCALENDAR
VERSION:2.0
PRODID:-//Kino Tuškanac//Filmski programi//HR
BEGIN:VEVENT
UID:23a41f775c1739fc2aef80190ae53873@kinotuskanac.hr
DTSTAMP:20260419T225419Z
DTSTART:20251023T190000
DTEND:20251023T210000
SUMMARY:Satiemania
LOCATION:Kino Tuškanac
DESCRIPTION:Jugoslavija: Hrvatska, 1978 R: Zdenko Gašparović
END:VEVENT
END:VCALENDAR