BEGIN:VCALENDAR
VERSION:2.0
PRODID:-//Kino Tuškanac//Filmski programi//HR
BEGIN:VEVENT
UID:07de4c92df36ff9fe36caa8ba600dfe4@kinotuskanac.hr
DTSTAMP:20260419T225347Z
DTSTART:20251103T210000
DTEND:20251103T230000
SUMMARY:Princeza Mononoke
LOCATION:Kino Tuškanac
DESCRIPTION:Mononoke-hime, Japan, 1997 | Mjesto prikazivanja filma: Centar za kulturu Histrionski dom (Ilica 90) R: Hayao Miyazaki
END:VEVENT
END:VCALENDAR