BEGIN:VCALENDAR
VERSION:2.0
PRODID:-//Kino Tuškanac//Filmski programi//HR
BEGIN:VEVENT
UID:b396122d1162af437250fb72e8663586@kinotuskanac.hr
DTSTAMP:20260420T115016Z
DTSTART:20060708T200000
DTEND:20060708T220000
SUMMARY:Stablo za klompe
LOCATION:Kino Tuškanac
DESCRIPTION:L' albero degli zoccoli, 1978 R: Ermanno Olmi
END:VEVENT
END:VCALENDAR