BEGIN:VCALENDAR
VERSION:2.0
PRODID:-//Kino Tuškanac//Filmski programi//HR
BEGIN:VEVENT
UID:33a7f46ef22d77a356258c7ec786d006@kinotuskanac.hr
DTSTAMP:20260420T114854Z
DTSTART:20060710T200000
DTEND:20060710T220000
SUMMARY:Proba orkestra
LOCATION:Kino Tuškanac
DESCRIPTION:Prova d'orchestra, 1978 R: Federico Fellini
END:VEVENT
END:VCALENDAR