BEGIN:VCALENDAR
VERSION:2.0
PRODID:-//Kino Tuškanac//Filmski programi//HR
BEGIN:VEVENT
UID:71df99b1e58baebbe79760094820de24@kinotuskanac.hr
DTSTAMP:20260421T051334Z
DTSTART:20251117T190000
DTEND:20251117T210000
SUMMARY:Vude, ti si pobijedio
LOCATION:Kino Tuškanac
DESCRIPTION:Hrvatska, Crna Gora, Srbija, 2025 | Mjesto prikazivanja filma: Kino Forum (SD Stjepan Radić, Jarunska ul. 2) R: Senad Šahmanović
END:VEVENT
END:VCALENDAR