BEGIN:VCALENDAR
VERSION:2.0
PRODID:-//Kino Tuškanac//Filmski programi//HR
BEGIN:VEVENT
UID:4c9b52234786bc8157b82364be6d8999@kinotuskanac.hr
DTSTAMP:20260420T142126Z
DTSTART:20251118T210000
DTEND:20251118T230000
SUMMARY:Soba
LOCATION:Kino Tuškanac
DESCRIPTION:La chambre, 1972 R: Chantal Akerman
END:VEVENT
END:VCALENDAR