BEGIN:VCALENDAR
VERSION:2.0
PRODID:-//Kino Tuškanac//Filmski programi//HR
BEGIN:VEVENT
UID:74702b9ee5283cc882f68e48e66e7bde@kinotuskanac.hr
DTSTAMP:20260421T143552Z
DTSTART:20251201T210000
DTEND:20251201T230000
SUMMARY:Harry Potter i Odaja tajni
LOCATION:Kino Tuškanac
DESCRIPTION:Harry Potter and the Chamber of Secrets, UK, SAD, 2002 | Mjesto prikazivanja filma: Centar za kulturu Histrionski dom (Ilica 90) R: Chris Columbus
END:VEVENT
END:VCALENDAR