BEGIN:VCALENDAR
VERSION:2.0
PRODID:-//Kino Tuškanac//Filmski programi//HR
BEGIN:VEVENT
UID:7d41dbdaf5cfd646ea5a7b4069ee497c@kinotuskanac.hr
DTSTAMP:20260421T143631Z
DTSTART:20251202T190000
DTEND:20251202T210000
SUMMARY:Harry Potter i zatočenik Azkabana
LOCATION:Kino Tuškanac
DESCRIPTION:Harry Potter and the Prisoner of Azkaban, UK, SAD, 2004 | Mjesto prikazivanja filma: Centar za kulturu Histrionski dom (Ilica 90) R: Alfonso Cuarón
END:VEVENT
END:VCALENDAR