BEGIN:VCALENDAR
VERSION:2.0
PRODID:-//Kino Tuškanac//Filmski programi//HR
BEGIN:VEVENT
UID:0945e8285dedb81f63bbb168528d6d9b@kinotuskanac.hr
DTSTAMP:20260423T161626Z
DTSTART:20251208T190000
DTEND:20251208T210000
SUMMARY:Harry Potter i Plameni pehar
LOCATION:Kino Tuškanac
DESCRIPTION:Harry Potter and the Goblet of Fire, UK, SAD, 2005 | Mjesto prikazivanja filma: Centar za kulturu Histrionski dom (Ilica 90) R: Chris Columbus
END:VEVENT
END:VCALENDAR