BEGIN:VCALENDAR
VERSION:2.0
PRODID:-//Kino Tuškanac//Filmski programi//HR
BEGIN:VEVENT
UID:2e29e95ae9c2e2409dec7499d80c34ae@kinotuskanac.hr
DTSTAMP:20260421T182400Z
DTSTART:20251209T190000
DTEND:20251209T210000
SUMMARY:Harry Potter i Red feniksa
LOCATION:Kino Tuškanac
DESCRIPTION:Harry Potter and the Order of the Phoenix, UK, SAD, 2007 | Mjesto prikazivanja filma: Centar za kulturu Histrionski dom (Ilica 90) R: David Yates
END:VEVENT
END:VCALENDAR