BEGIN:VCALENDAR
VERSION:2.0
PRODID:-//Kino Tuškanac//Filmski programi//HR
BEGIN:VEVENT
UID:26d7c9134dcdee1d4d333a88e90aea31@kinotuskanac.hr
DTSTAMP:20260421T143552Z
DTSTART:20251222T190000
DTEND:20251222T210000
SUMMARY:Harry Potter i Princ miješane krvi
LOCATION:Kino Tuškanac
DESCRIPTION:Harry Potter and the Half-Blood Prince, UK, SAD, 2009 | Mjesto prikazivanja filma: Centar za kulturu Histrionski dom (Ilica 90) R: David Yates
END:VEVENT
END:VCALENDAR