BEGIN:VCALENDAR
VERSION:2.0
PRODID:-//Kino Tuškanac//Filmski programi//HR
BEGIN:VEVENT
UID:71026f1e5f1dbe12afcf20d4b3f56676@kinotuskanac.hr
DTSTAMP:20260421T133616Z
DTSTART:20251223T180000
DTEND:20251223T200000
SUMMARY:Harry Potter i Darovi smrti 1. dio
LOCATION:Kino Tuškanac
DESCRIPTION:Harry Potter and the Deathly Hallows: Part 1, UK, SAD, 2010 | Mjesto prikazivanja filma: Centar za kulturu Histrionski dom (Ilica 90) R: David Yates
END:VEVENT
END:VCALENDAR