BEGIN:VCALENDAR
VERSION:2.0
PRODID:-//Kino Tuškanac//Filmski programi//HR
BEGIN:VEVENT
UID:0a39bb09f76a6033aef9bebe612c14cb@kinotuskanac.hr
DTSTAMP:20260421T133821Z
DTSTART:20251223T210000
DTEND:20251223T230000
SUMMARY:Harry Potter i Darovi smrti 2. dio
LOCATION:Kino Tuškanac
DESCRIPTION:Harry Potter and the Deathly Hallows: Part 2, UK, SAD, 2011 | Mjesto prikazivanja filma: Centar za kulturu Histrionski dom (Ilica 90) R: David Yates
END:VEVENT
END:VCALENDAR