BEGIN:VCALENDAR
VERSION:2.0
PRODID:-//Kino Tuškanac//Filmski programi//HR
BEGIN:VEVENT
UID:4339d0e65b9f4b5020174336530b2cc7@kinotuskanac.hr
DTSTAMP:20260424T233800Z
DTSTART:20251216T210000
DTEND:20251216T230000
SUMMARY:Život je truba
LOCATION:Kino Tuškanac
DESCRIPTION:Hrvatska, Slovenija, Srbija, Crna Gora, UK, 2015 | Mjesto prikazivanja filma: Centar za kulturu Histrionski dom (Ilica 90) R: Antonio Nuić
END:VEVENT
END:VCALENDAR