BEGIN:VCALENDAR
VERSION:2.0
PRODID:-//Kino Tuškanac//Filmski programi//HR
BEGIN:VEVENT
UID:0c811912e69ca5db5da46a1ada58732e@kinotuskanac.hr
DTSTAMP:20260420T100315Z
DTSTART:20251221T210000
DTEND:20251221T230000
SUMMARY:Kasna smjena
LOCATION:Kino Tuškanac
DESCRIPTION:Heldin, Švicarska, Njemačka, 2025 | Mjesto prikazivanja filma: Kulturno informativni centar KIC (Preradovićeva ul. 5) R: Petra Biondina Volpe
END:VEVENT
END:VCALENDAR