BEGIN:VCALENDAR
VERSION:2.0
PRODID:-//Kino Tuškanac//Filmski programi//HR
BEGIN:VEVENT
UID:cdf478201339b518610790fe3ee1b743@kinotuskanac.hr
DTSTAMP:20260420T124805Z
DTSTART:20060715T200000
DTEND:20060715T220000
SUMMARY:Doviđenja, djeco
LOCATION:Kino Tuškanac
DESCRIPTION:Au revoir les enfants, 1987 R: Louis Malle
END:VEVENT
END:VCALENDAR