BEGIN:VCALENDAR
VERSION:2.0
PRODID:-//Kino Tuškanac//Filmski programi//HR
BEGIN:VEVENT
UID:c91a7c6becbeeec60681d2c31d038edd@kinotuskanac.hr
DTSTAMP:20260420T134607Z
DTSTART:20251227T210000
DTEND:20251227T230000
SUMMARY:Jedan običan incident
LOCATION:Kino Tuškanac
DESCRIPTION:Yek tasadef sadeh, Francuska, Iran, Luksemburg, 2025 | Mjesto prikazivanja filma: Kulturno informativni centar KIC (Preradovićeva ul. 5) R: Jafar Panahi
END:VEVENT
END:VCALENDAR