BEGIN:VCALENDAR
VERSION:2.0
PRODID:-//Kino Tuškanac//Filmski programi//HR
BEGIN:VEVENT
UID:6579854298380419d08f6d496840be0a@kinotuskanac.hr
DTSTAMP:20260423T054558Z
DTSTART:20260114T190000
DTEND:20260114T210000
SUMMARY:Otac majka sestra brat
LOCATION:Kino Tuškanac
DESCRIPTION:SAD, Irska, Francuska, 2025 | Mjesto prikazivanja filma: Kino Forum (SD Stjepan Radić, Jarunska ul. 2) R: Jim Jarmusch
END:VEVENT
END:VCALENDAR