BEGIN:VCALENDAR
VERSION:2.0
PRODID:-//Kino Tuškanac//Filmski programi//HR
BEGIN:VEVENT
UID:efd84b931b1eb3890beaf200283107cd@kinotuskanac.hr
DTSTAMP:20260420T114843Z
DTSTART:20060927T200000
DTEND:20060927T220000
SUMMARY:Proba orkestra
LOCATION:Kino Tuškanac
DESCRIPTION:Prova d'orchestra, 1978 R: Federico Fellini
END:VEVENT
END:VCALENDAR