BEGIN:VCALENDAR
VERSION:2.0
PRODID:-//Kino Tuškanac//Filmski programi//HR
BEGIN:VEVENT
UID:7088f8c779a46e7c7c5a983e340b2a57@kinotuskanac.hr
DTSTAMP:20260419T155400Z
DTSTART:20260127T190000
DTEND:20260127T210000
SUMMARY:Oči širom zatvorene
LOCATION:Kino Tuškanac
DESCRIPTION:Eyes Wide Shut, SAD, UK, 1999 | Mjesto prikazivanja filma: Centar za kulturu Histrionski dom (Ilica 90) R: Stanley Kubrick
END:VEVENT
END:VCALENDAR