BEGIN:VCALENDAR
VERSION:2.0
PRODID:-//Kino Tuškanac//Filmski programi//HR
BEGIN:VEVENT
UID:b8f50de2f34a71db95479b6c297d2339@kinotuskanac.hr
DTSTAMP:20260421T092851Z
DTSTART:20260227T190000
DTEND:20260227T210000
SUMMARY:Među bogovima
LOCATION:Kino Tuškanac
DESCRIPTION:Dwelling Among the Gods, Srbija, Hrvatska, Italija, 2024 | Mjesto prikazivanja filma: Kino Forum (SD Stjepan Radić, Jarunska ul. 2) R: Vuk Ršumović
END:VEVENT
END:VCALENDAR