BEGIN:VCALENDAR
VERSION:2.0
PRODID:-//Kino Tuškanac//Filmski programi//HR
BEGIN:VEVENT
UID:5656bc09a3b28025bd899323b8e0f05d@kinotuskanac.hr
DTSTAMP:20260421T093007Z
DTSTART:20260207T210000
DTEND:20260207T230000
SUMMARY:Vremenski stroj
LOCATION:Kino Tuškanac
DESCRIPTION:The Time Machine, SAD, 1960 | Mjesto prikazivanja filma: Kulturno informativni centar KIC (Preradovićeva ul. 5) R: George Pal
END:VEVENT
END:VCALENDAR