BEGIN:VCALENDAR
VERSION:2.0
PRODID:-//Kino Tuškanac//Filmski programi//HR
BEGIN:VEVENT
UID:6c9b9776af9f42afdcd33009e28610dc@kinotuskanac.hr
DTSTAMP:20260420T231244Z
DTSTART:20260215T210000
DTEND:20260215T230000
SUMMARY:Flesh
LOCATION:Kino Tuškanac
DESCRIPTION:SAD, 1968 | Mjesto prikazivanja filma: Kulturno informativni centar KIC (Preradovićeva ul. 5) R: Paul Morrissey
END:VEVENT
END:VCALENDAR