BEGIN:VCALENDAR
VERSION:2.0
PRODID:-//Kino Tuškanac//Filmski programi//HR
BEGIN:VEVENT
UID:fb89a209090ae4dc4972209ae8301a62@kinotuskanac.hr
DTSTAMP:20260420T124201Z
DTSTART:20060930T200000
DTEND:20060930T220000
SUMMARY:Doviđenja, djeco
LOCATION:Kino Tuškanac
DESCRIPTION:Au revoir les enfants, 1987 R: Louis Malle
END:VEVENT
END:VCALENDAR