BEGIN:VCALENDAR
VERSION:2.0
PRODID:-//Kino Tuškanac//Filmski programi//HR
BEGIN:VEVENT
UID:f36cf174c958fb0f82e1d9f09b093733@kinotuskanac.hr
DTSTAMP:20260419T141445Z
DTSTART:20260224T190000
DTEND:20260224T210000
SUMMARY:Glavonja
LOCATION:Kino Tuškanac
DESCRIPTION:Hrvatska, Slovačka, Slovenija, Latvija, Srbija, 2026 | Mjesto prikazivanja filma: Centar za kulturu Histrionski dom (Ilica 90) R: Marina Andree Škop
END:VEVENT
END:VCALENDAR