BEGIN:VCALENDAR
VERSION:2.0
PRODID:-//Kino Tuškanac//Filmski programi//HR
BEGIN:VEVENT
UID:7e1335e244a3c9d34432d8446f9504ff@kinotuskanac.hr
DTSTAMP:20260421T093529Z
DTSTART:20260224T210000
DTEND:20260224T230000
SUMMARY:Posljednji viking
LOCATION:Kino Tuškanac
DESCRIPTION:Den sidste viking, Danska, Švedska, 2025 | Mjesto prikazivanja filma: Centar za kulturu Histrionski dom (Ilica 90) R: Anders Thomas Jensen
END:VEVENT
END:VCALENDAR