BEGIN:VCALENDAR
VERSION:2.0
PRODID:-//Kino Tuškanac//Filmski programi//HR
BEGIN:VEVENT
UID:1dc789d71e0d49450b373c0e1b68a8ab@kinotuskanac.hr
DTSTAMP:20260422T123830Z
DTSTART:20260304T210000
DTEND:20260304T230000
SUMMARY:Diploma za smrt
LOCATION:Kino Tuškanac
DESCRIPTION:Jugoslavija: Hrvatska, Njemačka, 1989 | Mjesto prikazivanja filma: Kulturno informativni centar KIC (Preradovićeva ul. 5) R: Živorad Tomić
END:VEVENT
END:VCALENDAR