BEGIN:VCALENDAR
VERSION:2.0
PRODID:-//Kino Tuškanac//Filmski programi//HR
BEGIN:VEVENT
UID:fcef1487648f56edd5af981201484189@kinotuskanac.hr
DTSTAMP:20260425T202952Z
DTSTART:20061002T190000
DTEND:20061002T210000
SUMMARY:Naivne djevojke
LOCATION:Kino Tuškanac
DESCRIPTION:Les bonnes femmes, 1960. R: Claude Chabrol
END:VEVENT
END:VCALENDAR