BEGIN:VCALENDAR
VERSION:2.0
PRODID:-//Kino Tuškanac//Filmski programi//HR
BEGIN:VEVENT
UID:7ee58b4c8f0fe1342245ce1fa33794cd@kinotuskanac.hr
DTSTAMP:20260422T140514Z
DTSTART:20260314T210000
DTEND:20260314T230000
SUMMARY:Svjedoci
LOCATION:Kino Tuškanac
DESCRIPTION:Hrvatska, 2003 | Mjesto prikazivanja filma: Kulturno informativni centar KIC (Preradovićeva ul. 5) R: Vinko Brešan
END:VEVENT
END:VCALENDAR