BEGIN:VCALENDAR
VERSION:2.0
PRODID:-//Kino Tuškanac//Filmski programi//HR
BEGIN:VEVENT
UID:bb5d22945b99488ae09aba7a4a2bdb14@kinotuskanac.hr
DTSTAMP:20260422T140514Z
DTSTART:20260321T210000
DTEND:20260321T230000
SUMMARY:Mlade majke
LOCATION:Kino Tuškanac
DESCRIPTION:Jeunes mères, Belgija, Francuska, 2025 | Mjesto prikazivanja filma: Kulturno informativni centar KIC (Preradovićeva ul. 5) R: Jean-Pierre Dardenne
END:VEVENT
END:VCALENDAR