BEGIN:VCALENDAR
VERSION:2.0
PRODID:-//Kino Tuškanac//Filmski programi//HR
BEGIN:VEVENT
UID:fc291f94facf41036a31ef3dcfffc410@kinotuskanac.hr
DTSTAMP:20260424T051936Z
DTSTART:20260323T210000
DTEND:20260323T230000
SUMMARY:Sentimentalna vrijednost
LOCATION:Kino Tuškanac
DESCRIPTION:Affeksjonsverdi, Norveška, Francuska, Danska, Njemačka, Švedska, 2025 | Mjesto prikazivanja filma: Kino Forum (SD Stjepan Radić, Jarunska ul. 2) R: Joachim Trier
END:VEVENT
END:VCALENDAR