BEGIN:VCALENDAR
VERSION:2.0
PRODID:-//Kino Tuškanac//Filmski programi//HR
BEGIN:VEVENT
UID:c3fdeff3e1dde5241e8728dd0975e8ae@kinotuskanac.hr
DTSTAMP:20260422T170749Z
DTSTART:20260302T190000
DTEND:20260302T210000
SUMMARY:Treća Meščanska
LOCATION:Kino Tuškanac
DESCRIPTION:Tretya Meshchanskaya, SSSR, 1927 | Mjesto prikazivanja filma: Kino Forum (SD Stjepan Radić, Jarunska ul. 2) R: Abram Room
END:VEVENT
END:VCALENDAR