BEGIN:VCALENDAR
VERSION:2.0
PRODID:-//Kino Tuškanac//Filmski programi//HR
BEGIN:VEVENT
UID:7b14e81bf4ceea1c981213bb11c8ec4d@kinotuskanac.hr
DTSTAMP:20260422T082520Z
DTSTART:20260305T190000
DTEND:20260305T210000
SUMMARY:Casablanca
LOCATION:Kino Tuškanac
DESCRIPTION:SAD, 1942 | Mjesto prikazivanja filma: Kino Forum (SD Stjepan Radić, Jarunska ul. 2) R: Michael Curtiz
END:VEVENT
END:VCALENDAR