BEGIN:VCALENDAR
VERSION:2.0
PRODID:-//Kino Tuškanac//Filmski programi//HR
BEGIN:VEVENT
UID:94cfdf7bcc12afcd8c0c48e36f9cd11c@kinotuskanac.hr
DTSTAMP:20260422T214739Z
DTSTART:20260316T190000
DTEND:20260316T210000
SUMMARY:Drama ljubomore
LOCATION:Kino Tuškanac
DESCRIPTION:Dramma della gelosia (tutti i particolari in cronaca), Italija, Španjolska, 1970 | Mjesto prikazivanja filma: Kino Forum (SD Stjepan Radić, Jarunska ul. 2) R: Ettore Scola
END:VEVENT
END:VCALENDAR