BEGIN:VCALENDAR
VERSION:2.0
PRODID:-//Kino Tuškanac//Filmski programi//HR
BEGIN:VEVENT
UID:01c739c5a258cef5792d67ae3bd6ad75@kinotuskanac.hr
DTSTAMP:20260422T083315Z
DTSTART:20260318T190000
DTEND:20260318T210000
SUMMARY:Nedjelja, krvava nedjelja
LOCATION:Kino Tuškanac
DESCRIPTION:Sunday Bloody Sunday, Ujedinjeno Kraljevstvo, 1971 | Mjesto prikazivanja filma: Kino Forum (SD Stjepan Radić, Jarunska ul. 2) R: John Schlesinger
END:VEVENT
END:VCALENDAR