BEGIN:VCALENDAR
VERSION:2.0
PRODID:-//Kino Tuškanac//Filmski programi//HR
BEGIN:VEVENT
UID:aa9abf6e22f9e25cee39d1920f888666@kinotuskanac.hr
DTSTAMP:20260422T171034Z
DTSTART:20260326T190000
DTEND:20260326T210000
SUMMARY:Žena je budućnost muškarca
LOCATION:Kino Tuškanac
DESCRIPTION:Yeojaneun namjaui miraeda, Južna Koreja, 2004 | Mjesto prikazivanja filma: Kino Forum (SD Stjepan Radić, Jarunska ul. 2) R: Hong Sang-soo
END:VEVENT
END:VCALENDAR