BEGIN:VCALENDAR
VERSION:2.0
PRODID:-//Kino Tuškanac//Filmski programi//HR
BEGIN:VEVENT
UID:01cc7a2803f546437e73124fe41f7414@kinotuskanac.hr
DTSTAMP:20260424T010002Z
DTSTART:20260331T190000
DTEND:20260331T210000
SUMMARY:Prošli životi
LOCATION:Kino Tuškanac
DESCRIPTION:Past Lives, SAD, Južna Koreja, 2023 | Mjesto prikazivanja filma: Kino Forum (SD Stjepan Radić, Jarunska ul. 2) R: Celine Song
END:VEVENT
END:VCALENDAR