BEGIN:VCALENDAR
VERSION:2.0
PRODID:-//Kino Tuškanac//Filmski programi//HR
BEGIN:VEVENT
UID:c977acb2879f4623dd529c54ff7f3b0e@kinotuskanac.hr
DTSTAMP:20260425T202626Z
DTSTART:20061003T210000
DTEND:20061003T230000
SUMMARY:Naivne djevojke
LOCATION:Kino Tuškanac
DESCRIPTION:Les bonnes femmes, 1960. R: Claude Chabrol
END:VEVENT
END:VCALENDAR