BEGIN:VCALENDAR
VERSION:2.0
PRODID:-//Kino Tuškanac//Filmski programi//HR
BEGIN:VEVENT
UID:e365be89777f76569a1ed348456eff6b@kinotuskanac.hr
DTSTAMP:20260424T052059Z
DTSTART:20260423T210000
DTEND:20260423T230000
SUMMARY:Sentimentalna vrijednost
LOCATION:Kino Tuškanac
DESCRIPTION:Affeksjonsverdi, Norveška, Francuska, Danska, Njemačka, Švedska, 2025 | Mjesto prikazivanja filma: Kino Forum (SD Stjepan Radić, Jarunska ul. 2) R: Joachim Trier
END:VEVENT
END:VCALENDAR