BEGIN:VCALENDAR
VERSION:2.0
PRODID:-//Kino Tuškanac//Filmski programi//HR
BEGIN:VEVENT
UID:4a2c624d44cdd4eb980d043616a11fa9@kinotuskanac.hr
DTSTAMP:20260420T011814Z
DTSTART:20260428T210000
DTEND:20260428T230000
SUMMARY:Stakla Antuna Motike
LOCATION:Kino Tuškanac
DESCRIPTION:Jugoslavija: Hrvatska, 1971 | Mjesto prikazivanja filma: Centar za kulturu Histrionski dom (Ilica 90) R: Borislav Benažić
END:VEVENT
END:VCALENDAR