BEGIN:VCALENDAR
VERSION:2.0
PRODID:-//Kino Tuškanac//Filmski programi//HR
BEGIN:VEVENT
UID:7abf1ef44c8c50c81f3473bec3e259f4@kinotuskanac.hr
DTSTAMP:20260420T023237Z
DTSTART:20260428T210000
DTEND:20260428T230000
SUMMARY:Otkriće zime Ivana Generalića
LOCATION:Kino Tuškanac
DESCRIPTION:Jugoslavija: Hrvatska, 1976 R: Borislav Benažić
END:VEVENT
END:VCALENDAR