BEGIN:VCALENDAR
VERSION:2.0
PRODID:-//Kino Tuškanac//Filmski programi//HR
BEGIN:VEVENT
UID:14a6b6ddb457c7f308bd80b257cd104a@kinotuskanac.hr
DTSTAMP:20260420T012051Z
DTSTART:20260428T210000
DTEND:20260428T230000
SUMMARY:Ivan Lacković Croata
LOCATION:Kino Tuškanac
DESCRIPTION:Jugoslavija: Hrvatska, 1972 R: Antun Vrdoljak
END:VEVENT
END:VCALENDAR