BEGIN:VCALENDAR
VERSION:2.0
PRODID:-//Kino Tuškanac//Filmski programi//HR
BEGIN:VEVENT
UID:ae8521aef88f1f6e3e03b0ae27388f69@kinotuskanac.hr
DTSTAMP:20260420T093248Z
DTSTART:20260428T210000
DTEND:20260428T230000
SUMMARY:Zemlja (grupa slikara)
LOCATION:Kino Tuškanac
DESCRIPTION:Jugoslavija: Hrvatska, 1973 R: Obrad Gluščević
END:VEVENT
END:VCALENDAR