BEGIN:VCALENDAR
VERSION:2.0
PRODID:-//Kino Tuškanac//Filmski programi//HR
BEGIN:VEVENT
UID:bbe29e80bf43d68b041e7e5fa27bf8f8@kinotuskanac.hr
DTSTAMP:20260420T031623Z
DTSTART:20260428T210000
DTEND:20260428T230000
SUMMARY:Zameteni trag
LOCATION:Kino Tuškanac
DESCRIPTION:Jugoslavija: Hrvatska, 1972 R: Borislav Benažić
END:VEVENT
END:VCALENDAR