BEGIN:VCALENDAR
VERSION:2.0
PRODID:-//Kino Tuškanac//Filmski programi//HR
BEGIN:VEVENT
UID:8dc3b44f2d006511478fbbf9b1261b7f@kinotuskanac.hr
DTSTAMP:20260421T092850Z
DTSTART:20061018T210000
DTEND:20061018T230000
SUMMARY:Krvni srodnici
LOCATION:Kino Tuškanac
DESCRIPTION:Les liens de sang, 1978 R: Claude Chabrol
END:VEVENT
END:VCALENDAR