BEGIN:VCALENDAR
VERSION:2.0
PRODID:-//Kino Tuškanac//Filmski programi//HR
BEGIN:VEVENT
UID:4904df82c47796be25874161be4173c5@kinotuskanac.hr
DTSTAMP:20260421T092859Z
DTSTART:20061019T190000
DTEND:20061019T210000
SUMMARY:Krvni srodnici
LOCATION:Kino Tuškanac
DESCRIPTION:Les liens de sang, 1978 R: Claude Chabrol
END:VEVENT
END:VCALENDAR