BEGIN:VCALENDAR
VERSION:2.0
PRODID:-//Kino Tuškanac//Filmski programi//HR
BEGIN:VEVENT
UID:810d41f08bb80b507c4d27a0dc1d1cbd@kinotuskanac.hr
DTSTAMP:20260420T052253Z
DTSTART:20061024T210000
DTEND:20061024T230000
SUMMARY:Ženski posli
LOCATION:Kino Tuškanac
DESCRIPTION:Une affaire de femmes, 1988 R: Claude Chabrol
END:VEVENT
END:VCALENDAR