BEGIN:VCALENDAR
VERSION:2.0
PRODID:-//Kino Tuškanac//Filmski programi//HR
BEGIN:VEVENT
UID:12f91bf48e3bfbd75cc01a3d1865ab40@kinotuskanac.hr
DTSTAMP:20260420T052417Z
DTSTART:20061025T190000
DTEND:20061025T210000
SUMMARY:Ženski posli
LOCATION:Kino Tuškanac
DESCRIPTION:Une affaire de femmes, 1988 R: Claude Chabrol
END:VEVENT
END:VCALENDAR